BEGIN:VCALENDAR
VERSION:2.0
PRODID:-//SVP Thalwil //NONSGML Events //EN
CALSCALE:GREGORIAN
X-WR-CALNAME:SVP Thalwil
BEGIN:VEVENT
CREATED:20260212T165819Z
UID:1573
DTEND:20260614T000000
DTSTART:20260614T000000
DTSTAMP:20260423T134010Z
LOCATION:Thalwil
DESCRIPTION:
SUMMARY:Kommunale Erneuerungswahlen (2. Wahlgang)
ORGANIZER:
URL;VALUE=URI:https://www.svp-thalwil.ch/termine/2-wahlgang-kommunale-wahlen/
TRANSP:OPAQUE
END:VEVENT
END:VCALENDAR
