BEGIN:VCALENDAR
VERSION:2.0
PRODID:-//SVP Thalwil //NONSGML Events //EN
CALSCALE:GREGORIAN
X-WR-CALNAME:SVP Thalwil
BEGIN:VEVENT
CREATED:20260201T191100Z
UID:1533
DTEND:20261215T000000
DTSTART:20261215T000000
DTSTAMP:20260423T134010Z
LOCATION:Bezirk Andelfingen
DESCRIPTION:
SUMMARY:Kant. Delegiertenversammlung
ORGANIZER:
URL;VALUE=URI:https://www.svp-thalwil.ch/termine/kant-delegiertenversammlung-5/
TRANSP:OPAQUE
END:VEVENT
END:VCALENDAR
