BEGIN:VCALENDAR
VERSION:2.0
PRODID:-//SVP Thalwil //NONSGML Events //EN
CALSCALE:GREGORIAN
X-WR-CALNAME:SVP Thalwil
BEGIN:VEVENT
CREATED:20260201T191100Z
UID:1528
DTEND:20261102T200000
DTSTART:20261102T190000
DTSTAMP:20260423T134020Z
LOCATION:Rest. Höfli\, Thalwil
DESCRIPTION:
SUMMARY:Stammtisch
ORGANIZER:
URL;VALUE=URI:https://www.svp-thalwil.ch/termine/stammtisch-10/
TRANSP:OPAQUE
END:VEVENT
END:VCALENDAR
