BEGIN:VCALENDAR
VERSION:2.0
PRODID:-//SVP Thalwil //NONSGML Events //EN
CALSCALE:GREGORIAN
X-WR-CALNAME:SVP Thalwil
BEGIN:VEVENT
CREATED:20260201T191059Z
UID:1522
DTEND:20260907T200000
DTSTART:20260907T190000
DTSTAMP:20260423T134020Z
LOCATION:Rest. Höfli\, Thalwil
DESCRIPTION:
SUMMARY:Stammtisch
ORGANIZER:
URL;VALUE=URI:https://www.svp-thalwil.ch/termine/stammtisch-8/
TRANSP:OPAQUE
END:VEVENT
END:VCALENDAR
