BEGIN:VCALENDAR
VERSION:2.0
PRODID:-//SVP Thalwil //NONSGML Events //EN
CALSCALE:GREGORIAN
X-WR-CALNAME:SVP Thalwil
BEGIN:VEVENT
CREATED:20260201T191059Z
UID:1515
DTEND:20260614T000000
DTSTART:20260614T000000
DTSTAMP:20260423T150653Z
LOCATION:Schweiz
DESCRIPTION:
SUMMARY:Eidg. + Kant. Abstimmungen
ORGANIZER:
URL;VALUE=URI:https://www.svp-thalwil.ch/termine/eidg-kant-abstimmungen-2-wahlgang-kommunale-wahlen/
TRANSP:OPAQUE
END:VEVENT
END:VCALENDAR
